BEGIN:VCALENDAR
VERSION:2.0
PRODID:-//cupe3799.ca - ECPv6.15.20//NONSGML v1.0//EN
CALSCALE:GREGORIAN
METHOD:PUBLISH
X-WR-CALNAME:cupe3799.ca
X-ORIGINAL-URL:https://cupe3799.ca
X-WR-CALDESC:Events for cupe3799.ca
REFRESH-INTERVAL;VALUE=DURATION:PT1H
X-Robots-Tag:noindex
X-PUBLISHED-TTL:PT1H
BEGIN:VTIMEZONE
TZID:America/Los_Angeles
BEGIN:DAYLIGHT
TZOFFSETFROM:-0800
TZOFFSETTO:-0700
TZNAME:PDT
DTSTART:20190310T100000
END:DAYLIGHT
BEGIN:STANDARD
TZOFFSETFROM:-0700
TZOFFSETTO:-0800
TZNAME:PST
DTSTART:20191103T090000
END:STANDARD
BEGIN:DAYLIGHT
TZOFFSETFROM:-0800
TZOFFSETTO:-0700
TZNAME:PDT
DTSTART:20200308T100000
END:DAYLIGHT
BEGIN:STANDARD
TZOFFSETFROM:-0700
TZOFFSETTO:-0800
TZNAME:PST
DTSTART:20201101T090000
END:STANDARD
BEGIN:DAYLIGHT
TZOFFSETFROM:-0800
TZOFFSETTO:-0700
TZNAME:PDT
DTSTART:20210314T100000
END:DAYLIGHT
BEGIN:STANDARD
TZOFFSETFROM:-0700
TZOFFSETTO:-0800
TZNAME:PST
DTSTART:20211107T090000
END:STANDARD
END:VTIMEZONE
BEGIN:VEVENT
DTSTART;TZID=America/Los_Angeles:20200212T120000
DTEND;TZID=America/Los_Angeles:20200212T130000
DTSTAMP:20260421T065111
CREATED:20200207T024906Z
LAST-MODIFIED:20200207T024906Z
UID:143-1581508800-1581512400@cupe3799.ca
SUMMARY:February 12th Special General Membership Meeting
DESCRIPTION:Please allow this to serve as notice for upcoming Special Membership meeting.  The meeting details are as follows: \n Date: Wednesday\, February 12\, 2020 \nTime: 12:00pm to 1:00pm \nLocation: Senate Chambers \nBlueJeans: Information will follow \nAgenda has been emailed out. \nThe meetings intention is to allow the membership of 3379 to assist us in debriefing after the recent job action. Please come with your thoughts about what worked\, what didn’t and how to improve the process for the next time. \nShare this:Tweet\n				Print (Opens in new window)\n				Print
URL:https://cupe3799.ca/event/february-12th-special-general-membership-meeting/
LOCATION:Senate Chambers\, 3333 University Way\, Prince George\, BC\, Canada
CATEGORIES:CUPE BC,Meetings
END:VEVENT
END:VCALENDAR